BEGIN:VCALENDAR
VERSION:2.0
PRODID:-//eventon.com NONSGML v1.0//EN
BEGIN:VEVENT
UID:69e5e879a9d87
DTSTAMP:20260420T044857
DTSTART:20260808T140000Z
DTEND:20260808T200000Z
LOCATION:Southern New Hampshire University - Athletic Complex 1628 Mountainview Road
SUMMARY:Advanced Referee Training
DESCRIPTION: NH Advanced Referee Training Join us on August 8 at SNHU for the NH Referee Advanced Referee Training — a full‑day development experience designed for officials ready to elevate their performance. Led by top‑level instructors\,  this training blends classroom learning\,  on‑field sessions\,  video analysis\,  and leadership development. Event Details Date: August[..]
END:VEVENT
END:VCALENDAR